BEGIN:VCALENDAR
VERSION:2.0
PRODID:-//IPSC Manitoba - ECPv6.15.20//NONSGML v1.0//EN
CALSCALE:GREGORIAN
METHOD:PUBLISH
X-ORIGINAL-URL:https://www.ipscmanitoba.com
X-WR-CALDESC:Events for IPSC Manitoba
REFRESH-INTERVAL;VALUE=DURATION:PT1H
X-Robots-Tag:noindex
X-PUBLISHED-TTL:PT1H
BEGIN:VTIMEZONE
TZID:UTC
BEGIN:STANDARD
TZOFFSETFROM:+0000
TZOFFSETTO:+0000
TZNAME:UTC
DTSTART:20240101T000000
END:STANDARD
END:VTIMEZONE
BEGIN:VEVENT
DTSTART;TZID=UTC:20250525T090000
DTEND;TZID=UTC:20250525T170000
DTSTAMP:20260422T014515
CREATED:20250102T165210Z
LAST-MODIFIED:20250330T044804Z
UID:1837-1748163600-1748192400@www.ipscmanitoba.com
SUMMARY:IPSC Manitoba Level II - Brandon (Team Qualifier)
DESCRIPTION:Match Directors : Hanarei Dela Cruz/Catalino Pabuayon/Cocoy Borja
URL:https://www.ipscmanitoba.com/event/ipsc-manitoba-level-ii-brandon-wildlife-association/
LOCATION:Brandon Wildlife Association\, 2201 49th St E\, Brandon\, Manitoba\, R7A 7R2\, Canada
END:VEVENT
END:VCALENDAR