BEGIN:VCALENDAR
VERSION:2.0
PRODID:-//IPSC Manitoba - ECPv6.15.20//NONSGML v1.0//EN
CALSCALE:GREGORIAN
METHOD:PUBLISH
X-WR-CALNAME:IPSC Manitoba
X-ORIGINAL-URL:https://www.ipscmanitoba.com
X-WR-CALDESC:Events for IPSC Manitoba
REFRESH-INTERVAL;VALUE=DURATION:PT1H
X-Robots-Tag:noindex
X-PUBLISHED-TTL:PT1H
BEGIN:VTIMEZONE
TZID:UTC
BEGIN:STANDARD
TZOFFSETFROM:+0000
TZOFFSETTO:+0000
TZNAME:UTC
DTSTART:20240101T000000
END:STANDARD
END:VTIMEZONE
BEGIN:VEVENT
DTSTART;TZID=UTC:20250906T080000
DTEND;TZID=UTC:20250907T170000
DTSTAMP:20260421T194230
CREATED:20250102T165837Z
LAST-MODIFIED:20250323T183636Z
UID:1845-1757145600-1757264400@www.ipscmanitoba.com
SUMMARY:IPSC Manitoba Provincial Level III - Selkirk (Team Qualifier - Mandatory)
DESCRIPTION:Match Director : Rey Olazo\n\nRange Master : Norm Frankfurt/Brad Kirkpatrick \nStat Officer : Irene Chavez \nMatch Committee : Rob Schmidt\, Rene Santos\, Dennis Dela Cruz\, Ela Roxas and Nap Panes \nPractiScore Registration Link:\nhttps://practiscore.com/2025-ipsc-manitoba-provincial-handgun-championship-level-iii-2/register
URL:https://www.ipscmanitoba.com/event/ipsc-manitoba-provincial-level-iii-tba/
LOCATION:Selkirk Game and Fish Range 4\, 30 Road East\, Walkleyburg\, Manitoba\, R0E 0M0\, Canada
END:VEVENT
END:VCALENDAR