BEGIN:VCALENDAR
VERSION:2.0
PRODID:-//IPSC Manitoba - ECPv6.15.20//NONSGML v1.0//EN
CALSCALE:GREGORIAN
METHOD:PUBLISH
X-WR-CALNAME:IPSC Manitoba
X-ORIGINAL-URL:https://www.ipscmanitoba.com
X-WR-CALDESC:Events for IPSC Manitoba
REFRESH-INTERVAL;VALUE=DURATION:PT1H
X-Robots-Tag:noindex
X-PUBLISHED-TTL:PT1H
BEGIN:VTIMEZONE
TZID:UTC
BEGIN:STANDARD
TZOFFSETFROM:+0000
TZOFFSETTO:+0000
TZNAME:UTC
DTSTART:20250101T000000
END:STANDARD
END:VTIMEZONE
BEGIN:VEVENT
DTSTART;TZID=UTC:20260215T073000
DTEND;TZID=UTC:20260215T173000
DTSTAMP:20260421T122637
CREATED:20250925T033543Z
LAST-MODIFIED:20260105T005416Z
UID:1987-1771140600-1771176600@www.ipscmanitoba.com
SUMMARY:IPSC Manitoba Level II - Firing Line
DESCRIPTION:Match Directors : Gerrome Frades/Shecaina Mae Frades
URL:https://www.ipscmanitoba.com/event/ipsc-manitoba-level-ii-firing-line-5/
LOCATION:Firing Line Gun Club\, 439 Turenne Street\, Winnipeg\, Manitoba\, R2J 0S5\, Canada
END:VEVENT
END:VCALENDAR