BEGIN:VCALENDAR
VERSION:2.0
PRODID:-//IPSC Manitoba - ECPv6.15.20//NONSGML v1.0//EN
CALSCALE:GREGORIAN
METHOD:PUBLISH
X-WR-CALNAME:IPSC Manitoba
X-ORIGINAL-URL:https://www.ipscmanitoba.com
X-WR-CALDESC:Events for IPSC Manitoba
REFRESH-INTERVAL;VALUE=DURATION:PT1H
X-Robots-Tag:noindex
X-PUBLISHED-TTL:PT1H
BEGIN:VTIMEZONE
TZID:UTC
BEGIN:STANDARD
TZOFFSETFROM:+0000
TZOFFSETTO:+0000
TZNAME:UTC
DTSTART:20250101T000000
END:STANDARD
END:VTIMEZONE
BEGIN:VEVENT
DTSTART;TZID=UTC:20260628T080000
DTEND;TZID=UTC:20260628T170000
DTSTAMP:20260419T173044
CREATED:20251205T170857Z
LAST-MODIFIED:20251205T170857Z
UID:2107-1782633600-1782666000@www.ipscmanitoba.com
SUMMARY:IPSC Manitoba - Selkirk (Team Qualifier)
DESCRIPTION:Match Directors: Hector De Leon/Marc Ting/Team SPI
URL:https://www.ipscmanitoba.com/event/ipsc-manitoba-selkirk-team-qualifier/
LOCATION:Selkirk Game and Fish Range 4\, 30 Road East\, Walkleyburg\, Manitoba\, R0E 0M0\, Canada
END:VEVENT
END:VCALENDAR