BEGIN:VCALENDAR
VERSION:2.0
PRODID:-//IPSC Manitoba - ECPv6.15.20//NONSGML v1.0//EN
CALSCALE:GREGORIAN
METHOD:PUBLISH
X-WR-CALNAME:IPSC Manitoba
X-ORIGINAL-URL:https://www.ipscmanitoba.com
X-WR-CALDESC:Events for IPSC Manitoba
REFRESH-INTERVAL;VALUE=DURATION:PT1H
X-Robots-Tag:noindex
X-PUBLISHED-TTL:PT1H
BEGIN:VTIMEZONE
TZID:UTC
BEGIN:STANDARD
TZOFFSETFROM:+0000
TZOFFSETTO:+0000
TZNAME:UTC
DTSTART:20250101T000000
END:STANDARD
END:VTIMEZONE
BEGIN:VEVENT
DTSTART;TZID=UTC:20260822T080000
DTEND;TZID=UTC:20260823T170000
DTSTAMP:20260419T202331
CREATED:20251205T171804Z
LAST-MODIFIED:20251205T172701Z
UID:2112-1787385600-1787504400@www.ipscmanitoba.com
SUMMARY:2026 IPSC Manitoba Provincial Handgun Championship - (Mandatory Team Qualifier)
DESCRIPTION:Match Director: Rey Olazo \nRange Masters: Norm Frankfurt/Brad Kirkpatrick \nMatch Committee: Rob Schmidt\, Rene Santos\, Irene Chavez\, Dennis Dela Cruz\, Ela Roxas\, Toni Santos\, Kervie Chavez and Nap Panes
URL:https://www.ipscmanitoba.com/event/2026-ipsc-manitoba-provincial-handgun-championship-mandatory-team-qualifier/
LOCATION:Selkirk Game and Fish Range 4\, 30 Road East\, Walkleyburg\, Manitoba\, R0E 0M0\, Canada
END:VEVENT
END:VCALENDAR