BEGIN:VCALENDAR
VERSION:2.0
PRODID:-//IPSC Manitoba - ECPv6.15.20//NONSGML v1.0//EN
CALSCALE:GREGORIAN
METHOD:PUBLISH
X-WR-CALNAME:IPSC Manitoba
X-ORIGINAL-URL:https://www.ipscmanitoba.com
X-WR-CALDESC:Events for IPSC Manitoba
REFRESH-INTERVAL;VALUE=DURATION:PT1H
X-Robots-Tag:noindex
X-PUBLISHED-TTL:PT1H
BEGIN:VTIMEZONE
TZID:UTC
BEGIN:STANDARD
TZOFFSETFROM:+0000
TZOFFSETTO:+0000
TZNAME:UTC
DTSTART:20250101T000000
END:STANDARD
END:VTIMEZONE
BEGIN:VEVENT
DTSTART;TZID=UTC:20260830T080000
DTEND;TZID=UTC:20260830T170000
DTSTAMP:20260419T202333
CREATED:20251205T173249Z
LAST-MODIFIED:20251205T173249Z
UID:2116-1788076800-1788109200@www.ipscmanitoba.com
SUMMARY:4th IPSC Manitoba President Championship - Selkirk (Team Qualifier)
DESCRIPTION:Match Directors: Jhon Aquino/Norman Panes \nFund Raiser Event for the Manitoba Children’s Hospital Foundation – St. John’s Lodge No. 4
URL:https://www.ipscmanitoba.com/event/4th-ipsc-manitoba-president-championship-selkirk-team-qualifier/
LOCATION:Selkirk Game and Fish Range 4\, 30 Road East\, Walkleyburg\, Manitoba\, R0E 0M0\, Canada
END:VEVENT
END:VCALENDAR