BEGIN:VCALENDAR
VERSION:2.0
PRODID:-//IPSC Manitoba - ECPv6.15.20//NONSGML v1.0//EN
CALSCALE:GREGORIAN
METHOD:PUBLISH
X-WR-CALNAME:IPSC Manitoba
X-ORIGINAL-URL:https://www.ipscmanitoba.com
X-WR-CALDESC:Events for IPSC Manitoba
REFRESH-INTERVAL;VALUE=DURATION:PT1H
X-Robots-Tag:noindex
X-PUBLISHED-TTL:PT1H
BEGIN:VTIMEZONE
TZID:UTC
BEGIN:STANDARD
TZOFFSETFROM:+0000
TZOFFSETTO:+0000
TZNAME:UTC
DTSTART:20240101T000000
END:STANDARD
END:VTIMEZONE
BEGIN:VEVENT
DTSTART;TZID=UTC:20250817T080000
DTEND;TZID=UTC:20250817T170000
DTSTAMP:20260421T194338
CREATED:20250102T165659Z
LAST-MODIFIED:20250107T202626Z
UID:1843-1755417600-1755450000@www.ipscmanitoba.com
SUMMARY:IPSC Manitoba - Selkirk (Team Qualifier)
DESCRIPTION:Match Directors : Richard Santos/Team Rat Rat
URL:https://www.ipscmanitoba.com/event/ipsc-manitoba-tba/
LOCATION:Selkirk Game and Fish Range 4\, 30 Road East\, Walkleyburg\, Manitoba\, R0E 0M0\, Canada
END:VEVENT
END:VCALENDAR