BEGIN:VCALENDAR
VERSION:2.0
PRODID:-//IPSC Manitoba - ECPv6.15.20//NONSGML v1.0//EN
CALSCALE:GREGORIAN
METHOD:PUBLISH
X-WR-CALNAME:IPSC Manitoba
X-ORIGINAL-URL:https://www.ipscmanitoba.com
X-WR-CALDESC:Events for IPSC Manitoba
REFRESH-INTERVAL;VALUE=DURATION:PT1H
X-Robots-Tag:noindex
X-PUBLISHED-TTL:PT1H
BEGIN:VTIMEZONE
TZID:UTC
BEGIN:STANDARD
TZOFFSETFROM:+0000
TZOFFSETTO:+0000
TZNAME:UTC
DTSTART:20240101T000000
END:STANDARD
END:VTIMEZONE
BEGIN:VEVENT
DTSTART;TZID=UTC:20251004T080000
DTEND;TZID=UTC:20251004T170000
DTSTAMP:20260421T164809
CREATED:20251004T195236Z
LAST-MODIFIED:20251004T195236Z
UID:2009-1759564800-1759597200@www.ipscmanitoba.com
SUMMARY:IPSC Manitoba Level II – Firing Line
DESCRIPTION:Match Directors : Henry Licardo/Patrick Tesoro
URL:https://www.ipscmanitoba.com/event/ipsc-manitoba-level-ii-firing-line-6/
LOCATION:Manitoba
END:VEVENT
BEGIN:VEVENT
DTSTART;TZID=UTC:20251006T080000
DTEND;TZID=UTC:20251006T170000
DTSTAMP:20260421T164809
CREATED:20251006T232219Z
LAST-MODIFIED:20251006T232219Z
UID:2012-1759737600-1759770000@www.ipscmanitoba.com
SUMMARY:IPSC Manitoba Level II - Firing Line
DESCRIPTION:Match Directors: Henry Licardo/Patrick Tesoro
URL:https://www.ipscmanitoba.com/event/ipsc-manitoba-level-ii-firing-line-8/
LOCATION:Manitoba
END:VEVENT
BEGIN:VEVENT
DTSTART;TZID=UTC:20251012T080000
DTEND;TZID=UTC:20251012T170000
DTSTAMP:20260421T164809
CREATED:20250102T171855Z
LAST-MODIFIED:20250925T032827Z
UID:1858-1760256000-1760288400@www.ipscmanitoba.com
SUMMARY:IPSC Manitoba Level II - Firing Line
DESCRIPTION:Match Directors : Erwin Crescini/Nelson David
URL:https://www.ipscmanitoba.com/event/ipsc-manitoba-level-ii-firing-line/
LOCATION:Firing Line Gun Club\, 439 Turenne Street\, Winnipeg\, Manitoba\, R2J 0S5\, Canada
END:VEVENT
END:VCALENDAR