BEGIN:VCALENDAR
VERSION:2.0
PRODID:-//IPSC Manitoba - ECPv6.15.20//NONSGML v1.0//EN
CALSCALE:GREGORIAN
METHOD:PUBLISH
X-ORIGINAL-URL:https://www.ipscmanitoba.com
X-WR-CALDESC:Events for IPSC Manitoba
REFRESH-INTERVAL;VALUE=DURATION:PT1H
X-Robots-Tag:noindex
X-PUBLISHED-TTL:PT1H
BEGIN:VTIMEZONE
TZID:UTC
BEGIN:STANDARD
TZOFFSETFROM:+0000
TZOFFSETTO:+0000
TZNAME:UTC
DTSTART:20240101T000000
END:STANDARD
END:VTIMEZONE
BEGIN:VEVENT
DTSTART;TZID=UTC:20251109T080000
DTEND;TZID=UTC:20251109T170000
DTSTAMP:20260421T152528
CREATED:20250102T172001Z
LAST-MODIFIED:20250925T032917Z
UID:1860-1762675200-1762707600@www.ipscmanitoba.com
SUMMARY:IPSC Manitoba Level II - Firing Line
DESCRIPTION:Match Directors : Mau Paragas/Ric Tavares
URL:https://www.ipscmanitoba.com/event/ipsc-manitoba-level-ii-firing-line-2/
LOCATION:Firing Line Gun Club\, 439 Turenne Street\, Winnipeg\, Manitoba\, R2J 0S5\, Canada
END:VEVENT
BEGIN:VEVENT
DTSTART;TZID=UTC:20251128T080000
DTEND;TZID=UTC:20251128T170000
DTSTAMP:20260421T152528
CREATED:20251128T210459Z
LAST-MODIFIED:20251128T210459Z
UID:2073-1764316800-1764349200@www.ipscmanitoba.com
SUMMARY:IPSC Manitoba Level II - Firing Line
DESCRIPTION:Match Directors: Gerrome Frades/Patrick Tesoro
URL:https://www.ipscmanitoba.com/event/ipsc-manitoba-level-ii-firing-line-9/
LOCATION:Manitoba
END:VEVENT
BEGIN:VEVENT
DTSTART;TZID=UTC:20251128T080000
DTEND;TZID=UTC:20251128T170000
DTSTAMP:20260421T152528
CREATED:20251128T221254Z
LAST-MODIFIED:20251128T221254Z
UID:2082-1764316800-1764349200@www.ipscmanitoba.com
SUMMARY:IPSC Manitoba Level II match - Firing Line
DESCRIPTION:Match Directors: Gerrome Frades/Patrick Tesoro
URL:https://www.ipscmanitoba.com/event/ipsc-manitoba-level-ii-match-firing-line/
LOCATION:Manitoba
END:VEVENT
END:VCALENDAR